Package: ivygapSE Version: 1.26.0 Command: rm -rf ivygapSE.buildbin-libdir && mkdir ivygapSE.buildbin-libdir && /Users/biocbuild/BBS/utils/build-universal.sh ivygapSE_1.26.0.tar.gz /Library/Frameworks/R.framework/Resources/bin/R ivygapSE.buildbin-libdir StartedAt: 2024-10-17 16:27:02 -0400 (Thu, 17 Oct 2024) EndedAt: 2024-10-17 16:28:06 -0400 (Thu, 17 Oct 2024) EllapsedTime: 63.9 seconds RetCode: 0 Status: OK PackageFile: ivygapSE_1.26.0.tgz PackageFileSize: 15.37 MiB