Package: ivygapSE Version: 1.26.0 Command: /Library/Frameworks/R.framework/Resources/bin/R CMD build --keep-empty-dirs --no-resave-data ivygapSE StartedAt: 2024-06-09 23:29:28 -0400 (Sun, 09 Jun 2024) EndedAt: 2024-06-09 23:32:39 -0400 (Sun, 09 Jun 2024) EllapsedTime: 190.9 seconds RetCode: 0 Status: OK PackageFile: ivygapSE_1.26.0.tar.gz PackageFileSize: 15.35 MiB