Package: ivygapSE Version: 1.26.0 Command: rm -rf ivygapSE.buildbin-libdir && mkdir ivygapSE.buildbin-libdir && /Users/biocbuild/BBS/utils/build-universal.sh ivygapSE_1.26.0.tar.gz /Library/Frameworks/R.framework/Resources/bin/R ivygapSE.buildbin-libdir StartedAt: 2024-06-11 11:46:45 -0400 (Tue, 11 Jun 2024) EndedAt: 2024-06-11 11:47:39 -0400 (Tue, 11 Jun 2024) EllapsedTime: 54.4 seconds RetCode: 0 Status: OK PackageFile: ivygapSE_1.26.0.tgz PackageFileSize: 15.37 MiB