Package: iterativeBMAsurv Version: 1.62.0 Command: chmod a+r iterativeBMAsurv -R && E:\biocbuild\bbs-3.19-bioc\R\bin\R.exe CMD build --keep-empty-dirs --no-resave-data iterativeBMAsurv StartedAt: 2024-10-16 19:55:46 -0400 (Wed, 16 Oct 2024) EndedAt: 2024-10-16 19:56:15 -0400 (Wed, 16 Oct 2024) EllapsedTime: 28.7 seconds RetCode: 0 Status: OK PackageFile: iterativeBMAsurv_1.62.0.tar.gz PackageFileSize: 198.2 KiB