Package: iterativeBMAsurv Version: 1.62.0 Command: rm -rf iterativeBMAsurv.buildbin-libdir && mkdir iterativeBMAsurv.buildbin-libdir && F:\biocbuild\bbs-3.19-bioc\R\bin\R.exe CMD INSTALL --build --library=iterativeBMAsurv.buildbin-libdir iterativeBMAsurv_1.62.0.tar.gz StartedAt: 2024-06-27 08:24:27 -0400 (Thu, 27 Jun 2024) EndedAt: 2024-06-27 08:24:50 -0400 (Thu, 27 Jun 2024) EllapsedTime: 23.0 seconds RetCode: 0 Status: OK PackageFile: iterativeBMAsurv_1.62.0.zip PackageFileSize: 281.3 KiB