Package: iterativeBMAsurv Version: 1.62.0 Command: /Library/Frameworks/R.framework/Resources/bin/R CMD build --keep-empty-dirs --no-resave-data iterativeBMAsurv StartedAt: 2024-06-09 23:29:20 -0400 (Sun, 09 Jun 2024) EndedAt: 2024-06-09 23:30:00 -0400 (Sun, 09 Jun 2024) EllapsedTime: 40.3 seconds RetCode: 0 Status: OK PackageFile: iterativeBMAsurv_1.62.0.tar.gz PackageFileSize: 197.5 KiB