Package: iterativeBMAsurv Version: 1.62.0 Command: /Library/Frameworks/R.framework/Resources/bin/R CMD build --keep-empty-dirs --no-resave-data iterativeBMAsurv StartedAt: 2024-10-17 03:06:39 -0400 (Thu, 17 Oct 2024) EndedAt: 2024-10-17 03:07:06 -0400 (Thu, 17 Oct 2024) EllapsedTime: 27.0 seconds RetCode: 0 Status: OK PackageFile: iterativeBMAsurv_1.62.0.tar.gz PackageFileSize: 197.5 KiB