Package: iterativeBMAsurv Version: 1.62.0 Command: rm -rf iterativeBMAsurv.buildbin-libdir && mkdir iterativeBMAsurv.buildbin-libdir && /Users/biocbuild/BBS/utils/build-universal.sh iterativeBMAsurv_1.62.0.tar.gz /Library/Frameworks/R.framework/Resources/bin/R iterativeBMAsurv.buildbin-libdir StartedAt: 2024-10-18 19:06:25 -0400 (Fri, 18 Oct 2024) EndedAt: 2024-10-18 19:06:37 -0400 (Fri, 18 Oct 2024) EllapsedTime: 11.4 seconds RetCode: 0 Status: OK PackageFile: iterativeBMAsurv_1.62.0.tgz PackageFileSize: 273 KiB