Package: iterativeBMA Version: 1.62.0 Command: chmod a+r iterativeBMA -R && E:\biocbuild\bbs-3.19-bioc\R\bin\R.exe CMD build --keep-empty-dirs --no-resave-data iterativeBMA StartedAt: 2024-10-16 19:55:38 -0400 (Wed, 16 Oct 2024) EndedAt: 2024-10-16 19:56:07 -0400 (Wed, 16 Oct 2024) EllapsedTime: 28.6 seconds RetCode: 0 Status: OK PackageFile: iterativeBMA_1.62.0.tar.gz PackageFileSize: 159.8 KiB