Package: iterativeBMA Version: 1.62.0 Command: rm -rf iterativeBMA.buildbin-libdir && mkdir iterativeBMA.buildbin-libdir && E:\biocbuild\bbs-3.19-bioc\R\bin\R.exe CMD INSTALL --build --library=iterativeBMA.buildbin-libdir iterativeBMA_1.62.0.tar.gz StartedAt: 2024-10-17 08:01:14 -0400 (Thu, 17 Oct 2024) EndedAt: 2024-10-17 08:01:33 -0400 (Thu, 17 Oct 2024) EllapsedTime: 18.6 seconds RetCode: 0 Status: OK PackageFile: iterativeBMA_1.62.0.zip PackageFileSize: 220.7 KiB