Package: iterativeBMA Version: 1.62.0 Command: chmod a+r iterativeBMA -R && F:\biocbuild\bbs-3.19-bioc\R\bin\R.exe CMD build --keep-empty-dirs --no-resave-data iterativeBMA StartedAt: 2024-06-26 19:40:52 -0400 (Wed, 26 Jun 2024) EndedAt: 2024-06-26 19:41:17 -0400 (Wed, 26 Jun 2024) EllapsedTime: 25.1 seconds RetCode: 0 Status: OK PackageFile: iterativeBMA_1.62.0.tar.gz PackageFileSize: 159.8 KiB