Package: iterativeBMA Version: 1.62.0 Command: rm -rf iterativeBMA.buildbin-libdir && mkdir iterativeBMA.buildbin-libdir && F:\biocbuild\bbs-3.19-bioc\R\bin\R.exe CMD INSTALL --build --library=iterativeBMA.buildbin-libdir iterativeBMA_1.62.0.tar.gz StartedAt: 2024-06-27 08:24:25 -0400 (Thu, 27 Jun 2024) EndedAt: 2024-06-27 08:24:46 -0400 (Thu, 27 Jun 2024) EllapsedTime: 21.4 seconds RetCode: 0 Status: OK PackageFile: iterativeBMA_1.62.0.zip PackageFileSize: 220.6 KiB