Package: iterativeBMA Version: 1.62.0 Command: /Library/Frameworks/R.framework/Resources/bin/R CMD build --keep-empty-dirs --no-resave-data iterativeBMA StartedAt: 2024-10-16 20:18:50 -0400 (Wed, 16 Oct 2024) EndedAt: 2024-10-16 20:19:37 -0400 (Wed, 16 Oct 2024) EllapsedTime: 46.8 seconds RetCode: 0 Status: OK PackageFile: iterativeBMA_1.62.0.tar.gz PackageFileSize: 158.9 KiB