Package: iterativeBMA Version: 1.62.0 Command: rm -rf iterativeBMA.buildbin-libdir && mkdir iterativeBMA.buildbin-libdir && /Users/biocbuild/BBS/utils/build-universal.sh iterativeBMA_1.62.0.tar.gz /Library/Frameworks/R.framework/Resources/bin/R iterativeBMA.buildbin-libdir StartedAt: 2024-10-17 16:26:40 -0400 (Thu, 17 Oct 2024) EndedAt: 2024-10-17 16:27:15 -0400 (Thu, 17 Oct 2024) EllapsedTime: 35.2 seconds RetCode: 0 Status: OK PackageFile: iterativeBMA_1.62.0.tgz PackageFileSize: 213.8 KiB