Package: iterativeBMA Version: 1.62.0 Command: /Library/Frameworks/R.framework/Resources/bin/R CMD INSTALL iterativeBMA StartedAt: 2024-06-09 15:30:28 -0400 (Sun, 09 Jun 2024) EndedAt: 2024-06-09 15:30:38 -0400 (Sun, 09 Jun 2024) EllapsedTime: 10.4 seconds RetCode: 0 Status: OK