Package: iterativeBMA Version: 1.62.0 Command: /Library/Frameworks/R.framework/Resources/bin/R CMD check --install=check:iterativeBMA.install-out.txt --library=/Library/Frameworks/R.framework/Resources/library --no-vignettes --timings iterativeBMA_1.62.0.tar.gz StartedAt: 2024-06-09 21:07:35 -0400 (Sun, 09 Jun 2024) EndedAt: 2024-06-09 21:08:31 -0400 (Sun, 09 Jun 2024) EllapsedTime: 56.4 seconds RetCode: 0 Status: OK CheckDir: iterativeBMA.Rcheck Warnings: 0