Package: iterativeBMA Version: 1.62.0 Command: /Library/Frameworks/R.framework/Resources/bin/R CMD build --keep-empty-dirs --no-resave-data iterativeBMA StartedAt: 2024-06-09 17:04:15 -0400 (Sun, 09 Jun 2024) EndedAt: 2024-06-09 17:04:36 -0400 (Sun, 09 Jun 2024) EllapsedTime: 21.4 seconds RetCode: 0 Status: OK PackageFile: iterativeBMA_1.62.0.tar.gz PackageFileSize: 159.1 KiB