Package: iterativeBMA Version: 1.62.0 Command: /home/biocbuild/R/R-beta-2024-04-15_r86425/bin/R CMD build --keep-empty-dirs --no-resave-data iterativeBMA StartedAt: 2024-05-09 01:12:23 -0000 (Thu, 09 May 2024) EndedAt: 2024-05-09 01:12:42 -0000 (Thu, 09 May 2024) EllapsedTime: 19.0 seconds RetCode: 0 Status: OK PackageFile: iterativeBMA_1.62.0.tar.gz PackageFileSize: 153.7 KiB