Package: iterativeBMA Version: 1.62.0 Maintainer: Ka Yee Yeung MaintainerEmail: kayee at u.washington.edu git_url: https://git.bioconductor.org/packages/iterativeBMA git_branch: RELEASE_3_19 git_last_commit: 42c283b git_last_commit_date: 2024-04-30 10:18:26 -0400 (Tue, 30 Apr 2024)