Package: iterClust Version: 1.26.0 Command: /Library/Frameworks/R.framework/Resources/bin/R CMD build --keep-empty-dirs --no-resave-data iterClust StartedAt: 2024-10-16 20:19:05 -0400 (Wed, 16 Oct 2024) EndedAt: 2024-10-16 20:20:24 -0400 (Wed, 16 Oct 2024) EllapsedTime: 78.2 seconds RetCode: 0 Status: OK PackageFile: iterClust_1.26.0.tar.gz PackageFileSize: 116.2 KiB