Package: iterClust Version: 1.26.0 Maintainer: Hongxu Ding MaintainerEmail: hd2326 at columbia.edu git_url: https://git.bioconductor.org/packages/iterClust git_branch: RELEASE_3_19 git_last_commit: bbf9d2a git_last_commit_date: 2024-04-30 11:01:29 -0400 (Tue, 30 Apr 2024)