Package: isobar Version: 1.50.0 Command: E:\biocbuild\bbs-3.19-bioc\R\bin\R.exe CMD INSTALL isobar StartedAt: 2024-10-16 16:53:11 -0400 (Wed, 16 Oct 2024) EndedAt: 2024-10-16 16:54:45 -0400 (Wed, 16 Oct 2024) EllapsedTime: 94.1 seconds RetCode: 0 Status: OK