Package: isobar Version: 1.50.0 Command: chmod a+r isobar -R && E:\biocbuild\bbs-3.19-bioc\R\bin\R.exe CMD build --keep-empty-dirs --no-resave-data isobar StartedAt: 2024-10-16 19:54:54 -0400 (Wed, 16 Oct 2024) EndedAt: 2024-10-16 19:57:14 -0400 (Wed, 16 Oct 2024) EllapsedTime: 139.5 seconds RetCode: 0 Status: OK PackageFile: isobar_1.50.0.tar.gz PackageFileSize: 2.605 MiB