Package: isobar Version: 1.50.0 Command: chmod a+r isobar -R && F:\biocbuild\bbs-3.19-bioc\R\bin\R.exe CMD build --keep-empty-dirs --no-resave-data isobar StartedAt: 2024-06-26 19:40:06 -0400 (Wed, 26 Jun 2024) EndedAt: 2024-06-26 19:42:07 -0400 (Wed, 26 Jun 2024) EllapsedTime: 121.2 seconds RetCode: 0 Status: OK PackageFile: isobar_1.50.0.tar.gz PackageFileSize: 2.605 MiB