Package: isobar Version: 1.50.0 Command: /Library/Frameworks/R.framework/Resources/bin/R CMD INSTALL isobar StartedAt: 2024-10-16 16:12:49 -0400 (Wed, 16 Oct 2024) EndedAt: 2024-10-16 16:14:04 -0400 (Wed, 16 Oct 2024) EllapsedTime: 75.4 seconds RetCode: 0 Status: OK