Package: isobar Version: 1.50.0 Command: /Library/Frameworks/R.framework/Resources/bin/R CMD build --keep-empty-dirs --no-resave-data isobar StartedAt: 2024-10-16 20:18:34 -0400 (Wed, 16 Oct 2024) EndedAt: 2024-10-16 20:21:58 -0400 (Wed, 16 Oct 2024) EllapsedTime: 204.3 seconds RetCode: 0 Status: OK PackageFile: isobar_1.50.0.tar.gz PackageFileSize: 2.771 MiB