Package: isobar Version: 1.50.0 Command: rm -rf isobar.buildbin-libdir && mkdir isobar.buildbin-libdir && /Users/biocbuild/BBS/utils/build-universal.sh isobar_1.50.0.tar.gz /Library/Frameworks/R.framework/Resources/bin/R isobar.buildbin-libdir StartedAt: 2024-10-17 16:25:46 -0400 (Thu, 17 Oct 2024) EndedAt: 2024-10-17 16:27:59 -0400 (Thu, 17 Oct 2024) EllapsedTime: 133.5 seconds RetCode: 0 Status: OK PackageFile: isobar_1.50.0.tgz PackageFileSize: 3.893 MiB