Package: isobar Version: 1.50.0 Command: /Library/Frameworks/R.framework/Resources/bin/R CMD check --install=check:isobar.install-out.txt --library=/Library/Frameworks/R.framework/Resources/library --no-vignettes --timings isobar_1.50.0.tar.gz StartedAt: 2024-06-09 21:06:28 -0400 (Sun, 09 Jun 2024) EndedAt: 2024-06-09 21:10:02 -0400 (Sun, 09 Jun 2024) EllapsedTime: 213.8 seconds RetCode: 0 Status: WARNINGS CheckDir: isobar.Rcheck Warnings: 2