Package: isobar Version: 1.50.0 Command: /Library/Frameworks/R.framework/Resources/bin/R CMD check --install=check:isobar.install-out.txt --library=/Library/Frameworks/R.framework/Resources/library --no-vignettes --timings isobar_1.50.0.tar.gz StartedAt: 2024-06-10 19:42:29 -0400 (Mon, 10 Jun 2024) EndedAt: 2024-06-10 19:48:16 -0400 (Mon, 10 Jun 2024) EllapsedTime: 347.2 seconds RetCode: 0 Status: WARNINGS CheckDir: isobar.Rcheck Warnings: 2