Package: isobar Version: 1.50.0 Command: /Library/Frameworks/R.framework/Resources/bin/R CMD build --keep-empty-dirs --no-resave-data isobar StartedAt: 2024-10-17 03:02:57 -0400 (Thu, 17 Oct 2024) EndedAt: 2024-10-17 03:04:49 -0400 (Thu, 17 Oct 2024) EllapsedTime: 112.8 seconds RetCode: 0 Status: OK PackageFile: isobar_1.50.0.tar.gz PackageFileSize: 2.771 MiB