Package: ipdDb Version: 1.22.0 Command: rm -rf ipdDb.buildbin-libdir && mkdir ipdDb.buildbin-libdir && E:\biocbuild\bbs-3.19-bioc\R\bin\R.exe CMD INSTALL --build --library=ipdDb.buildbin-libdir ipdDb_1.22.0.tar.gz StartedAt: 2024-10-17 08:00:09 -0400 (Thu, 17 Oct 2024) EndedAt: 2024-10-17 08:00:35 -0400 (Thu, 17 Oct 2024) EllapsedTime: 26.3 seconds RetCode: 0 Status: OK PackageFile: ipdDb_1.22.0.zip PackageFileSize: 410.6 KiB