Package: ipdDb Version: 1.22.0 Command: /Library/Frameworks/R.framework/Resources/bin/R CMD INSTALL ipdDb StartedAt: 2024-10-16 15:45:34 -0400 (Wed, 16 Oct 2024) EndedAt: 2024-10-16 15:46:14 -0400 (Wed, 16 Oct 2024) EllapsedTime: 40.2 seconds RetCode: 0 Status: OK