Package: ipdDb Version: 1.22.0 Command: /Library/Frameworks/R.framework/Resources/bin/R CMD build --keep-empty-dirs --no-resave-data ipdDb StartedAt: 2024-10-16 20:14:55 -0400 (Wed, 16 Oct 2024) EndedAt: 2024-10-16 20:15:43 -0400 (Wed, 16 Oct 2024) EllapsedTime: 47.7 seconds RetCode: 0 Status: OK PackageFile: ipdDb_1.22.0.tar.gz PackageFileSize: 21.05 KiB