Package: ipdDb Version: 1.22.0 Command: /home/biocbuild/R/R-beta-2024-04-15_r86425/bin/R CMD check --install=check:ipdDb.install-out.txt --library=/home/biocbuild/R/R-beta-2024-04-15_r86425/site-library --no-vignettes --timings ipdDb_1.22.0.tar.gz StartedAt: 2024-05-09 08:39:48 -0000 (Thu, 09 May 2024) EndedAt: 2024-05-09 08:43:17 -0000 (Thu, 09 May 2024) EllapsedTime: 209.4 seconds RetCode: 0 Status: OK CheckDir: ipdDb.Rcheck Warnings: 0