Package: ipdDb Version: 1.22.0 Command: /Library/Frameworks/R.framework/Resources/bin/R CMD INSTALL ipdDb StartedAt: 2024-10-16 16:20:15 -0400 (Wed, 16 Oct 2024) EndedAt: 2024-10-16 16:20:34 -0400 (Wed, 16 Oct 2024) EllapsedTime: 19.6 seconds RetCode: 0 Status: OK