Package: interactiveDisplayBase Version: 1.42.0 Command: chmod a+r interactiveDisplayBase -R && F:\biocbuild\bbs-3.19-bioc\R\bin\R.exe CMD build --keep-empty-dirs --no-resave-data interactiveDisplayBase StartedAt: 2024-06-26 19:37:03 -0400 (Wed, 26 Jun 2024) EndedAt: 2024-06-26 19:37:11 -0400 (Wed, 26 Jun 2024) EllapsedTime: 8.0 seconds RetCode: 0 Status: OK PackageFile: interactiveDisplayBase_1.42.0.tar.gz PackageFileSize: 7.51 KiB