Package: interactiveDisplayBase Version: 1.42.0 Command: /Library/Frameworks/R.framework/Resources/bin/R CMD INSTALL interactiveDisplayBase StartedAt: 2024-10-16 16:53:27 -0400 (Wed, 16 Oct 2024) EndedAt: 2024-10-16 16:53:35 -0400 (Wed, 16 Oct 2024) EllapsedTime: 7.6 seconds RetCode: 0 Status: OK