Package: interactiveDisplayBase Version: 1.42.0 Command: /Library/Frameworks/R.framework/Resources/bin/R CMD build --keep-empty-dirs --no-resave-data interactiveDisplayBase StartedAt: 2024-10-16 20:13:12 -0400 (Wed, 16 Oct 2024) EndedAt: 2024-10-16 20:13:26 -0400 (Wed, 16 Oct 2024) EllapsedTime: 13.9 seconds RetCode: 0 Status: OK PackageFile: interactiveDisplayBase_1.42.0.tar.gz PackageFileSize: 7.579 KiB