Package: interactiveDisplayBase Version: 1.42.0 Command: rm -rf interactiveDisplayBase.buildbin-libdir && mkdir interactiveDisplayBase.buildbin-libdir && /Users/biocbuild/BBS/utils/build-universal.sh interactiveDisplayBase_1.42.0.tar.gz /Library/Frameworks/R.framework/Resources/bin/R interactiveDisplayBase.buildbin-libdir StartedAt: 2024-10-17 16:24:08 -0400 (Thu, 17 Oct 2024) EndedAt: 2024-10-17 16:24:18 -0400 (Thu, 17 Oct 2024) EllapsedTime: 9.9 seconds RetCode: 0 Status: OK PackageFile: interactiveDisplayBase_1.42.0.tgz PackageFileSize: 27.74 KiB