Package: interactiveDisplayBase Version: 1.42.0 Command: rm -rf interactiveDisplayBase.buildbin-libdir && mkdir interactiveDisplayBase.buildbin-libdir && /Users/biocbuild/BBS/utils/build-universal.sh interactiveDisplayBase_1.42.0.tar.gz /Library/Frameworks/R.framework/Resources/bin/R interactiveDisplayBase.buildbin-libdir StartedAt: 2024-06-10 00:23:18 -0400 (Mon, 10 Jun 2024) EndedAt: 2024-06-10 00:23:26 -0400 (Mon, 10 Jun 2024) EllapsedTime: 7.9 seconds RetCode: 0 Status: OK PackageFile: interactiveDisplayBase_1.42.0.tgz PackageFileSize: 27.72 KiB