Package: interactiveDisplay Version: 1.42.0 Command: chmod a+r interactiveDisplay -R && E:\biocbuild\bbs-3.19-bioc\R\bin\R.exe CMD build --keep-empty-dirs --no-resave-data interactiveDisplay StartedAt: 2024-10-16 19:50:58 -0400 (Wed, 16 Oct 2024) EndedAt: 2024-10-16 19:52:15 -0400 (Wed, 16 Oct 2024) EllapsedTime: 76.9 seconds RetCode: 0 Status: OK PackageFile: interactiveDisplay_1.42.0.tar.gz PackageFileSize: 4.528 MiB