Package: interactiveDisplay Version: 1.42.0 Command: rm -rf interactiveDisplay.buildbin-libdir && mkdir interactiveDisplay.buildbin-libdir && E:\biocbuild\bbs-3.19-bioc\R\bin\R.exe CMD INSTALL --build --library=interactiveDisplay.buildbin-libdir interactiveDisplay_1.42.0.tar.gz StartedAt: 2024-10-17 07:59:52 -0400 (Thu, 17 Oct 2024) EndedAt: 2024-10-17 08:01:23 -0400 (Thu, 17 Oct 2024) EllapsedTime: 90.7 seconds RetCode: 0 Status: OK PackageFile: interactiveDisplay_1.42.0.zip PackageFileSize: 2.446 MiB