Package: interactiveDisplay Version: 1.42.0 Command: F:\biocbuild\bbs-3.19-bioc\R\bin\R.exe CMD INSTALL interactiveDisplay StartedAt: 2024-06-26 16:54:43 -0400 (Wed, 26 Jun 2024) EndedAt: 2024-06-26 16:55:11 -0400 (Wed, 26 Jun 2024) EllapsedTime: 28.0 seconds RetCode: 0 Status: OK