Package: interactiveDisplay Version: 1.42.0 Command: chmod a+r interactiveDisplay -R && F:\biocbuild\bbs-3.19-bioc\R\bin\R.exe CMD build --keep-empty-dirs --no-resave-data interactiveDisplay StartedAt: 2024-06-26 19:36:28 -0400 (Wed, 26 Jun 2024) EndedAt: 2024-06-26 19:37:43 -0400 (Wed, 26 Jun 2024) EllapsedTime: 75.0 seconds RetCode: 0 Status: OK PackageFile: interactiveDisplay_1.42.0.tar.gz PackageFileSize: 4.528 MiB