Package: interactiveDisplay Version: 1.42.0 Command: rm -rf interactiveDisplay.buildbin-libdir && mkdir interactiveDisplay.buildbin-libdir && F:\biocbuild\bbs-3.19-bioc\R\bin\R.exe CMD INSTALL --build --library=interactiveDisplay.buildbin-libdir interactiveDisplay_1.42.0.tar.gz StartedAt: 2024-06-27 08:23:11 -0400 (Thu, 27 Jun 2024) EndedAt: 2024-06-27 08:23:47 -0400 (Thu, 27 Jun 2024) EllapsedTime: 35.8 seconds RetCode: 0 Status: OK PackageFile: interactiveDisplay_1.42.0.zip PackageFileSize: 2.445 MiB