Package: interactiveDisplay Version: 1.42.0 Command: /home/biocbuild/bbs-3.19-bioc/R/bin/R CMD INSTALL interactiveDisplay StartedAt: 2024-10-16 16:47:55 -0400 (Wed, 16 Oct 2024) EndedAt: 2024-10-16 16:48:17 -0400 (Wed, 16 Oct 2024) EllapsedTime: 22.0 seconds RetCode: 0 Status: OK