Package: interactiveDisplay Version: 1.42.0 Command: /home/biocbuild/bbs-3.19-bioc/R/bin/R CMD build --keep-empty-dirs --no-resave-data interactiveDisplay StartedAt: 2024-10-16 19:05:35 -0400 (Wed, 16 Oct 2024) EndedAt: 2024-10-16 19:06:25 -0400 (Wed, 16 Oct 2024) EllapsedTime: 50.1 seconds RetCode: 0 Status: OK PackageFile: interactiveDisplay_1.42.0.tar.gz PackageFileSize: 4.526 MiB