Package: interactiveDisplay Version: 1.42.0 Command: /Library/Frameworks/R.framework/Resources/bin/R CMD INSTALL interactiveDisplay StartedAt: 2024-06-09 15:44:26 -0400 (Sun, 09 Jun 2024) EndedAt: 2024-06-09 15:44:54 -0400 (Sun, 09 Jun 2024) EllapsedTime: 27.3 seconds RetCode: 0 Status: OK