Package: interactiveDisplay Version: 1.42.0 Command: /Library/Frameworks/R.framework/Resources/bin/R CMD check --install=check:interactiveDisplay.install-out.txt --library=/Library/Frameworks/R.framework/Resources/library --no-vignettes --timings interactiveDisplay_1.42.0.tar.gz StartedAt: 2024-06-09 21:02:02 -0400 (Sun, 09 Jun 2024) EndedAt: 2024-06-09 21:05:07 -0400 (Sun, 09 Jun 2024) EllapsedTime: 185.5 seconds RetCode: 0 Status: OK CheckDir: interactiveDisplay.Rcheck Warnings: 0