Package: interactiveDisplay Version: 1.42.0 Command: rm -rf interactiveDisplay.buildbin-libdir && mkdir interactiveDisplay.buildbin-libdir && /Users/biocbuild/BBS/utils/build-universal.sh interactiveDisplay_1.42.0.tar.gz /Library/Frameworks/R.framework/Resources/bin/R interactiveDisplay.buildbin-libdir StartedAt: 2024-06-10 00:23:18 -0400 (Mon, 10 Jun 2024) EndedAt: 2024-06-10 00:23:55 -0400 (Mon, 10 Jun 2024) EllapsedTime: 36.1 seconds RetCode: 0 Status: OK PackageFile: interactiveDisplay_1.42.0.tgz PackageFileSize: 2.479 MiB